BEGIN:VCALENDAR
VERSION:2.0
PRODID:-// - ECPv6.15.20//NONSGML v1.0//EN
CALSCALE:GREGORIAN
METHOD:PUBLISH
X-ORIGINAL-URL:https://keyspotapp.com
X-WR-CALDESC:Events for 
REFRESH-INTERVAL;VALUE=DURATION:PT1H
X-Robots-Tag:noindex
X-PUBLISHED-TTL:PT1H
BEGIN:VTIMEZONE
TZID:America/New_York
BEGIN:DAYLIGHT
TZOFFSETFROM:-0500
TZOFFSETTO:-0400
TZNAME:EDT
DTSTART:20250309T070000
END:DAYLIGHT
BEGIN:STANDARD
TZOFFSETFROM:-0400
TZOFFSETTO:-0500
TZNAME:EST
DTSTART:20251102T060000
END:STANDARD
BEGIN:DAYLIGHT
TZOFFSETFROM:-0500
TZOFFSETTO:-0400
TZNAME:EDT
DTSTART:20260308T070000
END:DAYLIGHT
BEGIN:STANDARD
TZOFFSETFROM:-0400
TZOFFSETTO:-0500
TZNAME:EST
DTSTART:20261101T060000
END:STANDARD
BEGIN:DAYLIGHT
TZOFFSETFROM:-0500
TZOFFSETTO:-0400
TZNAME:EDT
DTSTART:20270314T070000
END:DAYLIGHT
BEGIN:STANDARD
TZOFFSETFROM:-0400
TZOFFSETTO:-0500
TZNAME:EST
DTSTART:20271107T060000
END:STANDARD
END:VTIMEZONE
BEGIN:VEVENT
DTSTART;TZID=America/New_York:20260314T130000
DTEND;TZID=America/New_York:20260314T160000
DTSTAMP:20260424T114319
CREATED:20260306T160756Z
LAST-MODIFIED:20260306T160756Z
UID:2469-1773493200-1773504000@keyspotapp.com
SUMMARY:Boss Ladies Luncheon in Cincinnati\, OH
DESCRIPTION:ATTENTION Boss Lady BUSINESS OWNERS in Cincinnati!  \nThis is Your Chance to Network\, Connect and Get the Support You Need to Grow! We want to Celebrate You as a Boss Lady in Business. Be sure to register for the Boss Ladies Luncheon on August 8th starting at 12 PM EST at the The Key Spot Event Center in Cincinnati. \nShare Your Business\, Network\, get Great information\, make Meaningful Connections!  Don’t wait\, register today! \nhttps://www.eventbrite.com/e/connecting-is-key-small-business-conference-cincinnati-tickets-1676641121729? \nSponsored by Key Spot by Quality SAP.
URL:https://keyspotapp.com/event/bossladiesluncheon/
LOCATION:Key Spot Event Center – Cincinnati\, OH\, 10088 Springfield Pike Suite 1\, Cincinnati\, OH\, 45215\, United States
CATEGORIES:Cincy Key Spot Event Center,Events,Swag Bag Opportunity,Vendor Opportunity
ATTACH;FMTTYPE=image/png:https://keyspotapp.com/wp-content/uploads/2026/03/bossladies-luncheon.png
ORGANIZER;CN="Key Spot by Quality SAP":MAILTO:admin@qualitysap.com
END:VEVENT
BEGIN:VEVENT
DTSTART;TZID=America/New_York:20260326T180000
DTEND;TZID=America/New_York:20260326T190000
DTSTAMP:20260424T114319
CREATED:20260306T152512Z
LAST-MODIFIED:20260306T152512Z
UID:2466-1774548000-1774551600@keyspotapp.com
SUMMARY:FREE Virtual Key Spot Networking Session
DESCRIPTION:Small Business FREE Virtual Networking\nCome to the FREE Virtual Key Spot Networking & Overview Session\, March 26\, 2026 at 6:00 PM EST.  Make great connections\, share your business\, and get great business tips! \nDon’t wait\, Click the link to REGISTER Today! \nhttps://www.eventbrite.com/e/key-spot-business-networking-overview-session-tickets-1984186213377? \nBe sure to register to attend and share with a friend!
URL:https://keyspotapp.com/event/free-virtual-key-spot-networking-session-10/
LOCATION:GA
CATEGORIES:Events
ATTACH;FMTTYPE=image/jpeg:https://keyspotapp.com/wp-content/uploads/2026/01/key-spot-networking-banner-scaled.jpg
ORGANIZER;CN="Key Spot by Quality SAP":MAILTO:admin@qualitysap.com
END:VEVENT
END:VCALENDAR