BEGIN:VCALENDAR
VERSION:2.0
PRODID:-// - ECPv6.15.20//NONSGML v1.0//EN
CALSCALE:GREGORIAN
METHOD:PUBLISH
X-ORIGINAL-URL:https://keyspotapp.com
X-WR-CALDESC:Events for 
REFRESH-INTERVAL;VALUE=DURATION:PT1H
X-Robots-Tag:noindex
X-PUBLISHED-TTL:PT1H
BEGIN:VTIMEZONE
TZID:America/New_York
BEGIN:DAYLIGHT
TZOFFSETFROM:-0500
TZOFFSETTO:-0400
TZNAME:EDT
DTSTART:20240310T070000
END:DAYLIGHT
BEGIN:STANDARD
TZOFFSETFROM:-0400
TZOFFSETTO:-0500
TZNAME:EST
DTSTART:20241103T060000
END:STANDARD
BEGIN:DAYLIGHT
TZOFFSETFROM:-0500
TZOFFSETTO:-0400
TZNAME:EDT
DTSTART:20250309T070000
END:DAYLIGHT
BEGIN:STANDARD
TZOFFSETFROM:-0400
TZOFFSETTO:-0500
TZNAME:EST
DTSTART:20251102T060000
END:STANDARD
BEGIN:DAYLIGHT
TZOFFSETFROM:-0500
TZOFFSETTO:-0400
TZNAME:EDT
DTSTART:20260308T070000
END:DAYLIGHT
BEGIN:STANDARD
TZOFFSETFROM:-0400
TZOFFSETTO:-0500
TZNAME:EST
DTSTART:20261101T060000
END:STANDARD
END:VTIMEZONE
BEGIN:VEVENT
DTSTART;TZID=America/New_York:20251104T180000
DTEND;TZID=America/New_York:20251104T200000
DTSTAMP:20260424T181029
CREATED:20251016T210306Z
LAST-MODIFIED:20251016T210306Z
UID:2403-1762279200-1762286400@keyspotapp.com
SUMMARY:ATL Tuesday Night Vibes Networking
DESCRIPTION:Be sure to register for Tuesday Night Vibes.  This will be a great networking event for business owners!  You won’t want to miss this opportunity to make great connections!  Network\, Make Great Connections\, and support Small Business Owners. \nhttps://www.eventbrite.com/e/atl-tues-night-vibes-tickets-1788801997929? \nClick the link to get your tickets today! \n 
URL:https://keyspotapp.com/event/atl-tuesday-night-vibes-networking/
LOCATION:Pearson Consulting Group\, 808 Commerce Boulevard #Suite C\, Riverdale\, GA\, 30296\, United States
CATEGORIES:Events
ATTACH;FMTTYPE=image/jpeg:https://keyspotapp.com/wp-content/uploads/2025/10/atl-tues-vibes-11042025-flyer-scaled.jpg
ORGANIZER;CN="Key Spot by Quality SAP":MAILTO:admin@qualitysap.com
END:VEVENT
BEGIN:VEVENT
DTSTART;VALUE=DATE:20251105
DTEND;VALUE=DATE:20251109
DTSTAMP:20260424T181029
CREATED:20250923T214335Z
LAST-MODIFIED:20250923T214335Z
UID:2387-1762300800-1762646399@keyspotapp.com
SUMMARY:Power Networking Experience and Expo
DESCRIPTION:Get Your tickets to The PowerNetworking™ Conference! The conference is your gateway to access a growing market segment. The conference provides networking opportunities with key market influencers and leading providers of high quality products and services in Black America. \nBe sure to register today and use code “QSAP25” at check out! \nhttps://powernetworkingconference.com/pnex-affiliates/ \nClick the link to get your tickets today! \n 
URL:https://keyspotapp.com/event/power-networking-experience-and-expo/
LOCATION:Omni Atlanta\, 190 Marietta St NW\, Atlanta\, 30303\, United States
CATEGORIES:Events,Vendor Opportunity
ATTACH;FMTTYPE=image/jpeg:https://keyspotapp.com/wp-content/uploads/2025/09/pnex.jpg
END:VEVENT
BEGIN:VEVENT
DTSTART;TZID=America/New_York:20251119T180000
DTEND;TZID=America/New_York:20251119T200000
DTSTAMP:20260424T181029
CREATED:20251020T214801Z
LAST-MODIFIED:20251020T214801Z
UID:2410-1763575200-1763582400@keyspotapp.com
SUMMARY:Realtor and Investor Monthly Meet-Up
DESCRIPTION:Attention: Realtors and Property Investors!\nGet the support you need to grow your Real Estate and Investor Business! \nJoin the Monthly Real Estate and Investor Meetup at Key Spot Event Center. Each session will feature: \n\nNetworking with other local Realtors and Investors\nWorkshop topics and speakers\nOpportunities to collaborate and participate in events\nBusiness Promotion on Key Spot and more!\n\nhttps://www.eventbrite.com/e/realtor-and-investor-monthly-meet-up-tickets-1790179909299? \nSponsored by Key Spot by Quality SAP.
URL:https://keyspotapp.com/event/realtor-monthly-meet-up/
LOCATION:Key Spot Event Center – Cincinnati\, OH\, 10088 Springfield Pike Suite 1\, Cincinnati\, OH\, 45215\, United States
CATEGORIES:Cincy Key Spot Event Center,Events
ATTACH;FMTTYPE=image/jpeg:https://keyspotapp.com/wp-content/uploads/2025/10/Realtor-and-investor-meetup-scaled.jpg
ORGANIZER;CN="Key Spot by Quality SAP":MAILTO:admin@qualitysap.com
END:VEVENT
BEGIN:VEVENT
DTSTART;TZID=America/New_York:20251120T120000
DTEND;TZID=America/New_York:20251120T130000
DTSTAMP:20260424T181029
CREATED:20251016T211027Z
LAST-MODIFIED:20251020T214848Z
UID:2406-1763640000-1763643600@keyspotapp.com
SUMMARY:Business Resource Forum
DESCRIPTION:ATTENTION SMALL BUSINESS OWNERS!  \nThis is your opportunity to Get the Resource Information on Grants\, Apprenticeship Programs\, and More\, to support your Business! Plus network and make the connections you need to take your business to the next level. \nBe sure to attend the Business Resource Forum at the Key Spot Event Center. Sponsored by Owners Advocate Network\, SBA\, REDI Cincinnati\, Apprenticeship.gov\, and Key Spot by Quality SAP! Plus\, lunch will be provided. \nYou won’t want to miss this FREE Business GROWTH OPPORTUNITY! Get your tickets NOW! \nThe Event will Also be available Virtual. Be sure to register to get the Virtual Access Information. \nBe sure to share with a friend! \nhttps://www.eventbrite.com/e/business-resource-forum-at-key-spot-tickets-1722420047729? \nSponsored by Key Spot by Quality SAP.
URL:https://keyspotapp.com/event/business-resource-forum/
LOCATION:Key Spot Event Center – Cincinnati\, OH\, 10088 Springfield Pike Suite 1\, Cincinnati\, OH\, 45215\, United States
CATEGORIES:Cincy Key Spot Event Center,Events
ATTACH;FMTTYPE=image/jpeg:https://keyspotapp.com/wp-content/uploads/2025/10/eventbrite-biz-resource-forum-11202025-scaled.jpg
ORGANIZER;CN="Key Spot by Quality SAP":MAILTO:admin@qualitysap.com
END:VEVENT
END:VCALENDAR