BEGIN:VCALENDAR
VERSION:2.0
PRODID:-// - ECPv6.15.20//NONSGML v1.0//EN
CALSCALE:GREGORIAN
METHOD:PUBLISH
X-ORIGINAL-URL:https://keyspotapp.com
X-WR-CALDESC:Events for 
REFRESH-INTERVAL;VALUE=DURATION:PT1H
X-Robots-Tag:noindex
X-PUBLISHED-TTL:PT1H
BEGIN:VTIMEZONE
TZID:America/New_York
BEGIN:DAYLIGHT
TZOFFSETFROM:-0500
TZOFFSETTO:-0400
TZNAME:EDT
DTSTART:20240310T070000
END:DAYLIGHT
BEGIN:STANDARD
TZOFFSETFROM:-0400
TZOFFSETTO:-0500
TZNAME:EST
DTSTART:20241103T060000
END:STANDARD
BEGIN:DAYLIGHT
TZOFFSETFROM:-0500
TZOFFSETTO:-0400
TZNAME:EDT
DTSTART:20250309T070000
END:DAYLIGHT
BEGIN:STANDARD
TZOFFSETFROM:-0400
TZOFFSETTO:-0500
TZNAME:EST
DTSTART:20251102T060000
END:STANDARD
BEGIN:DAYLIGHT
TZOFFSETFROM:-0500
TZOFFSETTO:-0400
TZNAME:EDT
DTSTART:20260308T070000
END:DAYLIGHT
BEGIN:STANDARD
TZOFFSETFROM:-0400
TZOFFSETTO:-0500
TZNAME:EST
DTSTART:20261101T060000
END:STANDARD
END:VTIMEZONE
BEGIN:VEVENT
DTSTART;TZID=America/New_York:20250920T160000
DTEND;TZID=America/New_York:20250920T190000
DTSTAMP:20260424T205434
CREATED:20250320T190429Z
LAST-MODIFIED:20250911T144537Z
UID:2269-1758384000-1758394800@keyspotapp.com
SUMMARY:Artists On the Rise Art Showcase at Key Spot
DESCRIPTION:Get ready to Celebrate & Support Local Painters\, Sculptors\, Jewelry Artists\, Plus enjoy a Live Band! You won’t want to miss this event! \nCome out to support and purchase one of a kind artwork from local up and coming artists and bring a friend. This is an event you won’t want to miss! All attendees will receive 1/2 their First Booking at the Key Spot Event Center\, visit www.keyspotapp.com/event-center! \nClick the link to Register TODAY and Share with Others! \nhttps://www.eventbrite.com/e/artists-on-the-rise-at-key-spot-tickets-1557300079459? 
URL:https://keyspotapp.com/event/small-business-pop-up-at-key-spot/
LOCATION:Key Spot Event Center – Cincinnati\, OH\, 10088 Springfield Pike Suite 1\, Cincinnati\, OH\, 45215\, United States
CATEGORIES:Cincy Key Spot Event Center,Events
ATTACH;FMTTYPE=image/jpeg:https://keyspotapp.com/wp-content/uploads/2025/03/artist-on-the-rise-eventbrite-09202025-4x6-update-scaled.jpg
ORGANIZER;CN="Key Spot by Quality SAP":MAILTO:admin@qualitysap.com
END:VEVENT
BEGIN:VEVENT
DTSTART;TZID=America/New_York:20250923T180000
DTEND;TZID=America/New_York:20250923T200000
DTSTAMP:20260424T205434
CREATED:20250712T152651Z
LAST-MODIFIED:20250909T213721Z
UID:2348-1758650400-1758657600@keyspotapp.com
SUMMARY:ATL Tuesday Night Vibes Networking
DESCRIPTION:Be sure to register for Tuesday Night Vibes.  This will be a great networking event for business owners!  You won’t want to miss this opportunity to make great connections!  Network\, Make Great Connections\, and support Small Business Owners. \nhttps://www.eventbrite.com/e/atl-tues-night-vibes-tickets-1484026526289? \nClick the link to get your tickets today! \n 
URL:https://keyspotapp.com/event/atl-thursday-night-vibes-networking-6/
LOCATION:The RB Solution Center\, 2255 Cumberland Pkwy SE Building 1600\, Atlanta\, GA\, 30339\, United States
CATEGORIES:Events
ATTACH;FMTTYPE=image/png:https://keyspotapp.com/wp-content/uploads/2025/07/Sept-23-2025-Tues-night-1-scaled.png
ORGANIZER;CN="Key Spot by Quality SAP":MAILTO:admin@qualitysap.com
END:VEVENT
END:VCALENDAR