BEGIN:VCALENDAR
VERSION:2.0
PRODID:-// - ECPv6.15.20//NONSGML v1.0//EN
CALSCALE:GREGORIAN
METHOD:PUBLISH
X-ORIGINAL-URL:https://keyspotapp.com
X-WR-CALDESC:Events for 
REFRESH-INTERVAL;VALUE=DURATION:PT1H
X-Robots-Tag:noindex
X-PUBLISHED-TTL:PT1H
BEGIN:VTIMEZONE
TZID:America/New_York
BEGIN:DAYLIGHT
TZOFFSETFROM:-0500
TZOFFSETTO:-0400
TZNAME:EDT
DTSTART:20200308T070000
END:DAYLIGHT
BEGIN:STANDARD
TZOFFSETFROM:-0400
TZOFFSETTO:-0500
TZNAME:EST
DTSTART:20201101T060000
END:STANDARD
BEGIN:DAYLIGHT
TZOFFSETFROM:-0500
TZOFFSETTO:-0400
TZNAME:EDT
DTSTART:20210314T070000
END:DAYLIGHT
BEGIN:STANDARD
TZOFFSETFROM:-0400
TZOFFSETTO:-0500
TZNAME:EST
DTSTART:20211107T060000
END:STANDARD
BEGIN:DAYLIGHT
TZOFFSETFROM:-0500
TZOFFSETTO:-0400
TZNAME:EDT
DTSTART:20220313T070000
END:DAYLIGHT
BEGIN:STANDARD
TZOFFSETFROM:-0400
TZOFFSETTO:-0500
TZNAME:EST
DTSTART:20221106T060000
END:STANDARD
BEGIN:DAYLIGHT
TZOFFSETFROM:-0500
TZOFFSETTO:-0400
TZNAME:EDT
DTSTART:20230312T070000
END:DAYLIGHT
BEGIN:STANDARD
TZOFFSETFROM:-0400
TZOFFSETTO:-0500
TZNAME:EST
DTSTART:20231105T060000
END:STANDARD
BEGIN:DAYLIGHT
TZOFFSETFROM:-0500
TZOFFSETTO:-0400
TZNAME:EDT
DTSTART:20240310T070000
END:DAYLIGHT
BEGIN:STANDARD
TZOFFSETFROM:-0400
TZOFFSETTO:-0500
TZNAME:EST
DTSTART:20241103T060000
END:STANDARD
END:VTIMEZONE
BEGIN:VEVENT
DTSTART;TZID=America/New_York:20230216T180000
DTEND;TZID=America/New_York:20230216T200000
DTSTAMP:20260424T234829
CREATED:20230116T230033Z
LAST-MODIFIED:20230208T201110Z
UID:1422-1676570400-1676577600@keyspotapp.com
SUMMARY:ATL Thursday Night Vibes Networking & Book Signing
DESCRIPTION:Be sure to register for Thursday Night Vibes.  This will be a great networking event for business owners and entertainment industry professionals!  You won’t want to miss this opportunity to make great connections!  Network\, Make Great Connections\, and support Small Business Owners. \nClick the link to get your tickets today! \nThursday Night Vibes
URL:https://keyspotapp.com/event/thursday-night-vibes/
LOCATION:Vibrary Wine and Book Store\, 970 Main Street\, Unit A\, Stone Mountain\, Georgia\, 30083
CATEGORIES:Events
ATTACH;FMTTYPE=image/jpeg:https://keyspotapp.com/wp-content/uploads/2023/01/vibrary-with-clear-image-scaled.jpg
ORGANIZER;CN="Key Spot by Quality SAP":MAILTO:admin@qualitysap.com
END:VEVENT
BEGIN:VEVENT
DTSTART;TZID=America/New_York:20230211T110000
DTEND;TZID=America/New_York:20230211T190000
DTSTAMP:20260424T234829
CREATED:20230119T212112Z
LAST-MODIFIED:20230119T212135Z
UID:1414-1676113200-1676142000@keyspotapp.com
SUMMARY:Atlanta Black Expo
DESCRIPTION:Be sure to register for Atlanta Black Expo.  Network\, Make Great Connections\, and support Small Business Owners. \nClick the link to get your tickets today! Use coupon code “SAP” at checkout for a discount. \nAtlanta Black Expo
URL:https://keyspotapp.com/event/atlanta-black-expo/
LOCATION:Cobb Galleria Centre\, COBB GALLERIA CENTRE TWO GALLERIA PARKWAY SE\, Atlanta\, Georgia\, 30339
CATEGORIES:Events
ATTACH;FMTTYPE=image/png:https://keyspotapp.com/wp-content/uploads/2023/01/FEB-2023-ATL-Black-EXPO-Square-Flyer-35.png
END:VEVENT
BEGIN:VEVENT
DTSTART;TZID=America/New_York:20230125T180000
DTEND;TZID=America/New_York:20230125T210000
DTSTAMP:20260424T234829
CREATED:20230119T214532Z
LAST-MODIFIED:20230119T214532Z
UID:1428-1674669600-1674680400@keyspotapp.com
SUMMARY:2023 Vision Board Party
DESCRIPTION:Get started with your vision for 2023\, plus get connected with featured business partners to get the services and support you need. \nClick the link to get your tickets today! \n2023 Vision Board Party
URL:https://keyspotapp.com/event/2023-vision-board-party/
LOCATION:Black Coffee Atlanta\, 1800 Jonesboro Road Southeast #Suite C\, Atlanta\, Georgia\, 30315
CATEGORIES:Events
ATTACH;FMTTYPE=image/png:https://keyspotapp.com/wp-content/uploads/2023/01/visionboard-party.png
END:VEVENT
BEGIN:VEVENT
DTSTART;TZID=America/New_York:20221117T180000
DTEND;TZID=America/New_York:20221117T180000
DTSTAMP:20260424T234829
CREATED:20221115T192703Z
LAST-MODIFIED:20221115T194136Z
UID:1303-1668708000-1668708000@keyspotapp.com
SUMMARY:Key Spot Networking and Overview Session
DESCRIPTION:Thanksgiving Giveaway Thurs. Nov. 17th!\nCome to the Virtual Key Spot Networking & Overview Session\, November 17\, 2022 at 6:00 PM EST.  Make great connections\, share your business\, and get great business tips! \nRegister soon because space is limited. \nhttps://www.eventbrite.com/e/key-spot-business-networking-overview-session-tickets-458846932527 \nBe sure to register to attend and share with a friend!
URL:https://keyspotapp.com/event/key-spot-networking-and-overview-session-10/
LOCATION:Georgia
CATEGORIES:Events
ATTACH;FMTTYPE=image/jpeg:https://keyspotapp.com/wp-content/uploads/2022/11/keyspotnetworkNov2022b-2-scaled.jpg
ORGANIZER;CN="Key Spot by Quality SAP":MAILTO:admin@qualitysap.com
END:VEVENT
BEGIN:VEVENT
DTSTART;TZID=America/New_York:20221019T180000
DTEND;TZID=America/New_York:20221019T220000
DTSTAMP:20260424T234829
CREATED:20221013T223705Z
LAST-MODIFIED:20221013T223900Z
UID:1272-1666202400-1666216800@keyspotapp.com
SUMMARY:Taste Urban Atlanta Event
DESCRIPTION:Be sure to register for the Taste Urban Atlanta Event.  Enjoy delicious food\, and support Small Business Owners. \nClick the link to get your tickets today! Use coupon code “SAP” at checkout for a discount. \nTaste Urban Atlanta Tickets
URL:https://keyspotapp.com/event/taste-urban-atlanta-event-2/
LOCATION:The Foundry\, 916 Joseph E. Lowery Blvd NW\, Atlanta\, Georgia\, 30318
CATEGORIES:Events
ATTACH;FMTTYPE=image/png:https://keyspotapp.com/wp-content/uploads/2022/10/SAP-TUA-Oct-2022-Vendor-Square-FLYER-1-e1752334525378.png
END:VEVENT
BEGIN:VEVENT
DTSTART;TZID=America/New_York:20220924T200000
DTEND;TZID=America/New_York:20220924T230000
DTSTAMP:20260424T234829
CREATED:20220914T151412Z
LAST-MODIFIED:20220914T151412Z
UID:1212-1664049600-1664060400@keyspotapp.com
SUMMARY:Fall Fest Celebration at Golden Leaf
DESCRIPTION:Be sure to get your ticket for the “Fall Fest Celebration at Golden Leaf Event”  featuring Open Mic/Comedy/Music/Talent/Food and a Live DJ. Please help support local small businesses by coming out to this event. Use promo code “5off” for a discount\, and share with your Network!  Thank you for your support!  Click the link to get your tickets today! \nhttps://www.eventbrite.com/e/fall-fest-celebration-at-golden-leaf-tickets-396554865277 \nSponsored by Golden Leaf Event Center in Partnership with Quality SAP.
URL:https://keyspotapp.com/event/fall-fest-celebration-at-golden-leaf/
LOCATION:Golden Leaf Event Center\, 8352 Reading Road\, Cincinnat\, Ohio\, 45237
CATEGORIES:Events,Vendor Opportunity
ATTACH;FMTTYPE=image/jpeg:https://keyspotapp.com/wp-content/uploads/2022/09/sept-24-event-3.jpg
ORGANIZER;CN="Key Spot by Quality SAP":MAILTO:admin@qualitysap.com
END:VEVENT
BEGIN:VEVENT
DTSTART;TZID=America/New_York:20220924T120000
DTEND;TZID=America/New_York:20220924T160000
DTSTAMP:20260424T234829
CREATED:20220914T152220Z
LAST-MODIFIED:20220914T152220Z
UID:1215-1664020800-1664035200@keyspotapp.com
SUMMARY:BK Lobster Midtown Atlanta Anniversary Celebration
DESCRIPTION:Be sure to Come out and Celebrate the First Year Anniversary for BK Lobster Midtown ATL on Saturday September 24th at 12 PM  – 4 PM EST.  This FREE event will feature: Delicious food samples\, Live DJ\, Networking\, Giveaways\, and More!  Come out to support Small Business Owners! \nClick the link to Register today: \nhttps://www.eventbrite.com/e/bk-lobster-atl-anniversary-tickets-417995585047 \n 
URL:https://keyspotapp.com/event/bk-lobster-midtown-atlanta-anniversary-celebration/
LOCATION:BK Lobster Midtown ATL\, 855 Peachtree Street Northeast #suite 3\, Atlanta\, Georgia\, 30308
CATEGORIES:Events
ATTACH;FMTTYPE=image/png:https://keyspotapp.com/wp-content/uploads/2022/09/BK-Lobster-Anniv.png
ORGANIZER;CN="Key Spot by Quality SAP":MAILTO:admin@qualitysap.com
END:VEVENT
BEGIN:VEVENT
DTSTART;TZID=America/New_York:20220915T180000
DTEND;TZID=America/New_York:20220915T180000
DTSTAMP:20260424T234829
CREATED:20220914T150621Z
LAST-MODIFIED:20220914T150621Z
UID:1210-1663264800-1663264800@keyspotapp.com
SUMMARY:Key Spot Networking and Overview Session
DESCRIPTION:Share Your Business & Connect!\nCome to the Virtual Key Spot Networking & Overview Session\, September 15\, 2022 at 6:00 PM EST.  Make great connections\, share your business\, and get great business tips! \nRegister soon because space is limited. \nhttps://www.eventbrite.com/e/key-spot-business-networking-overview-session-tickets-405259691647 \nBe sure to register to attend and share with a friend!
URL:https://keyspotapp.com/event/key-spot-networking-and-overview-session-9/
LOCATION:Georgia
CATEGORIES:Events
ATTACH;FMTTYPE=image/jpeg:https://keyspotapp.com/wp-content/uploads/2021/09/keyspotevent.jpg
ORGANIZER;CN="Key Spot by Quality SAP":MAILTO:admin@qualitysap.com
END:VEVENT
BEGIN:VEVENT
DTSTART;TZID=America/New_York:20220824T180000
DTEND;TZID=America/New_York:20220824T180000
DTSTAMP:20260424T234829
CREATED:20220721T200424Z
LAST-MODIFIED:20220822T152439Z
UID:1197-1661364000-1661364000@keyspotapp.com
SUMMARY:Taste Urban Atlanta Event
DESCRIPTION:Be sure to register for the Taste Urban Atlanta Event.  Enjoy delicious food\, and support Small Business Owners. \nClick the link to get your tickets today! Use coupon code “SAP” at checkout for a discount. \nTaste Urban Atlanta Tickets
URL:https://keyspotapp.com/event/taste-urban-atlanta-event/
LOCATION:The Foundry\, 916 Joseph E. Lowery Blvd NW\, Atlanta\, Georgia\, 30318
CATEGORIES:Events,Vendor Opportunity
ATTACH;FMTTYPE=image/png:https://keyspotapp.com/wp-content/uploads/2022/07/SAP-TUA-August-2022-FLYER-1.png
END:VEVENT
BEGIN:VEVENT
DTSTART;TZID=America/New_York:20220730T120000
DTEND;TZID=America/New_York:20220730T200000
DTSTAMP:20260424T234829
CREATED:20220721T195646Z
LAST-MODIFIED:20220721T195646Z
UID:1194-1659182400-1659211200@keyspotapp.com
SUMMARY:Afrifest CIncy 2022:  Sponsored by APNET
DESCRIPTION:Get your tickets to attend the event! \n\n\n\n\n\n\n\n\nAfrifest Cincy 2022:  Sponsored by APNET\nBurnet Woods Park | 3298 Clifton Ave\, Cincinnati\, OH 45220
URL:https://keyspotapp.com/event/afrifest-cincy-2022-sponsored-by-apnet/
LOCATION:Georgia
CATEGORIES:Events
ATTACH;FMTTYPE=image/jpeg:https://keyspotapp.com/wp-content/uploads/2022/07/afrifest-image.jpg
END:VEVENT
BEGIN:VEVENT
DTSTART;TZID=America/New_York:20220721T180000
DTEND;TZID=America/New_York:20220721T190000
DTSTAMP:20260424T234829
CREATED:20220625T123747Z
LAST-MODIFIED:20220625T123747Z
UID:1154-1658426400-1658430000@keyspotapp.com
SUMMARY:Key Spot Networking and Overview Session
DESCRIPTION:Share Your Business & Connect!\nCome to the Virtual Key Spot Networking & Overview Session\, July 21\, 2022 at 6:00 PM EST.  Make great connections\, share your business\, and get great business tips! \nRegister soon because space is limited. \nhttps://www.eventbrite.com/e/key-spot-networking-overview-session-tickets-369120067057 \nBe sure to register to attend and share with a friend!
URL:https://keyspotapp.com/event/key-spot-networking-and-overview-session-8/
LOCATION:Georgia
CATEGORIES:Events
ATTACH;FMTTYPE=image/jpeg:https://keyspotapp.com/wp-content/uploads/2021/09/keyspotevent.jpg
ORGANIZER;CN="Key Spot by Quality SAP":MAILTO:admin@qualitysap.com
END:VEVENT
BEGIN:VEVENT
DTSTART;TZID=America/New_York:20220625T130000
DTEND;TZID=America/New_York:20220625T170000
DTSTAMP:20260424T234829
CREATED:20220523T155752Z
LAST-MODIFIED:20220523T160001Z
UID:1149-1656162000-1656176400@keyspotapp.com
SUMMARY:Connecting is Key Small Business Expo Virtual & in Cincinnati\, OH
DESCRIPTION:Do You Have a Business?  \nThen you need to attend the Connecting is Key Small Business Expo on Saturday June 25th at 1 PM EST\, both Virtual and in Cincinnati\, OH. Get the information you need from industry Professionals\, Share Your Business\, and make Great Connections! Don’t wait\, click the link to register TODAY! \nhttps://www.eventbrite.com/e/connecting-is-key-small-business-expo-cincinnati-tickets-301392311517 \nSponsored by Golden Leaf Event Center in Partnership with Quality SAP.
URL:https://keyspotapp.com/event/connecting-is-key-small-business-expo/
LOCATION:Golden Leaf Event Center\, 8352 Reading Road\, Cincinnat\, Ohio\, 45237
CATEGORIES:Events,Vendor Opportunity
ATTACH;FMTTYPE=image/jpeg:https://keyspotapp.com/wp-content/uploads/2022/05/eventbrite-2.jpg
ORGANIZER;CN="Key Spot by Quality SAP":MAILTO:admin@qualitysap.com
END:VEVENT
BEGIN:VEVENT
DTSTART;TZID=America/New_York:20220526T180000
DTEND;TZID=America/New_York:20220526T190000
DTSTAMP:20260424T234829
CREATED:20220430T194840Z
LAST-MODIFIED:20220430T194840Z
UID:1144-1653588000-1653591600@keyspotapp.com
SUMMARY:Key Spot Networking and Overview Session
DESCRIPTION:Share Your Business & Connect!\nCome to the Virtual Key Spot Networking & Overview Session\, May 26\, 2022 at 6:00 PM EST.  Make great connections\, share your business\, and get great business tips! \nRegister soon because space is limited. \nhttps://www.eventbrite.com/e/key-spot-networking-overview-session-tickets-331238662757 \nBe sure to register to attend and share with a friend!
URL:https://keyspotapp.com/event/key-spot-networking-and-overview-session-7/
LOCATION:Georgia
CATEGORIES:Events
ATTACH;FMTTYPE=image/jpeg:https://keyspotapp.com/wp-content/uploads/2021/09/keyspotevent.jpg
ORGANIZER;CN="Key Spot by Quality SAP":MAILTO:admin@qualitysap.com
END:VEVENT
BEGIN:VEVENT
DTSTART;TZID=America/New_York:20220428T190000
DTEND;TZID=America/New_York:20220428T210000
DTSTAMP:20260424T234829
CREATED:20220118T210039Z
LAST-MODIFIED:20220218T232404Z
UID:1099-1651172400-1651179600@keyspotapp.com
SUMMARY:SMART Business Networking
DESCRIPTION:Be sure to get your ticket for the “SMART Business Networking Event”! \nThis is your opportunity to network and make the connections you need to take you to the next level. Be sure to attend the SMART Business Networking Event sponsored by Xtraction\, Atlanta Film and TV\, and Key Spot by Quality SAP \nBe ready to Network\, Share Your Business\, Support local Vendors\, Enjoy Music\, Food\, & More! \nClick the link to get your general admission ticket or register to be a vendor today! \nhttps://www.eventbrite.com/e/smart-business-networking-tickets-250442047907 \nSponsored by Xtraction\, Atlanta Film and TV\, and Key Spot by Quality SAP.
URL:https://keyspotapp.com/event/smart-business-networking/
LOCATION:Xtractions Smoothies\, 2932 Canton Rd #190\, Marietta\, Georgia\, 30066
CATEGORIES:Events,Vendor Opportunity
ATTACH;FMTTYPE=image/jpeg:https://keyspotapp.com/wp-content/uploads/2022/01/SMART-Networking-Update-4x6-3-scaled.jpg
ORGANIZER;CN="Key Spot by Quality SAP":MAILTO:admin@qualitysap.com
END:VEVENT
BEGIN:VEVENT
DTSTART;TZID=America/New_York:20220421T180000
DTEND;TZID=America/New_York:20220421T190000
DTSTAMP:20260424T234829
CREATED:20220404T155109Z
LAST-MODIFIED:20220404T155109Z
UID:1137-1650564000-1650567600@keyspotapp.com
SUMMARY:Key Spot Networking and Overview Session
DESCRIPTION:Share Your Business & Connect!\nCome to the Virtual Key Spot Networking & Overview Session\, April 21\, 2022 at 6:00 PM EST.  Make great connections\, share your business\, and get great business tips! \nRegister soon because space is limited. \nhttps://www.eventbrite.com/e/key-spot-networking-overview-session-tickets-313506796267 \nBe sure to register to attend and share with a friend!
URL:https://keyspotapp.com/event/key-spot-networking-and-overview-session-6/
LOCATION:Georgia
CATEGORIES:Events
ATTACH;FMTTYPE=image/jpeg:https://keyspotapp.com/wp-content/uploads/2021/09/keyspotevent.jpg
ORGANIZER;CN="Key Spot by Quality SAP":MAILTO:admin@qualitysap.com
END:VEVENT
BEGIN:VEVENT
DTSTART;TZID=America/New_York:20220420T180000
DTEND;TZID=America/New_York:20220420T220000
DTSTAMP:20260424T234829
CREATED:20220315T143207Z
LAST-MODIFIED:20220315T143207Z
UID:1130-1650477600-1650492000@keyspotapp.com
SUMMARY:Taste Urban Atlanta Presents "Black Women in Business" 
DESCRIPTION:Be sure to register for the Taste Urban Atlanta “Black Women in Business”  Event.  Enjoy delicious food\, and support Women Business Owners. \nClick the link to get your tickets today! Use coupon code “SAP” at checkout for a discount. \nhttps://www.eventbrite.com/e/taste-urban-atlanta-celebrating-black-women-in-business-edition-tickets-270784221897
URL:https://keyspotapp.com/event/taste-urban-atlanta-presents-black-women-in-business/
LOCATION:Riverside Epicenter\, 135 Riverside Pkwy\, Austell\, Georgia\, 30168
CATEGORIES:Events,Vendor Opportunity
ATTACH;FMTTYPE=image/jpeg:https://keyspotapp.com/wp-content/uploads/2022/03/tasteurban.jpg
END:VEVENT
BEGIN:VEVENT
DTSTART;TZID=America/New_York:20220416T200000
DTEND;TZID=America/New_York:20220416T230000
DTSTAMP:20260424T234829
CREATED:20220115T144337Z
LAST-MODIFIED:20220315T143428Z
UID:1084-1650139200-1650150000@keyspotapp.com
SUMMARY:Jazz at Golden Leaf
DESCRIPTION:Be sure to get your ticket for the “Jazz at Golden Leaf Event”  featuring the smooth sounds of “Gifted Groove”\, Hosted by the EboNiQ.  This is that you won’t want to miss. \nClick the link to get your general admission ticket or register to be a vendor today! \nhttps://www.eventbrite.com/e/jazz-at-golden-leaf-tickets-247385114537 \nSponsored by Golden Leaf Event Center in Partnership with Quality SAP.
URL:https://keyspotapp.com/event/jazz-at-golden-leaf/
LOCATION:Golden Leaf Event Center\, 8352 Reading Road\, Cincinnat\, Ohio\, 45237
CATEGORIES:Events,Vendor Opportunity
ATTACH;FMTTYPE=image/png:https://keyspotapp.com/wp-content/uploads/2022/01/jazz-april-16-4x6-banner.png
ORGANIZER;CN="Key Spot by Quality SAP":MAILTO:admin@qualitysap.com
END:VEVENT
BEGIN:VEVENT
DTSTART;TZID=America/New_York:20220317T180000
DTEND;TZID=America/New_York:20220317T190000
DTSTAMP:20260424T234829
CREATED:20220315T142258Z
LAST-MODIFIED:20220315T142258Z
UID:1128-1647540000-1647543600@keyspotapp.com
SUMMARY:Key Spot Networking and Overview Session
DESCRIPTION:Share Your Business & Connect!\nCome to the Virtual Key Spot Networking & Overview Session\, March 10\, 2022 at 6:00 PM EST.  Make great connections\, share your business\, and get great business tips! \nRegister soon because space is limited. \nhttps://www.eventbrite.com/e/key-spot-networking-overview-session-tickets-289861903757 \nBe sure to register to attend and share with a friend!
URL:https://keyspotapp.com/event/key-spot-networking-and-overview-session-5/
LOCATION:Georgia
CATEGORIES:Events
ATTACH;FMTTYPE=image/jpeg:https://keyspotapp.com/wp-content/uploads/2021/09/keyspotevent.jpg
ORGANIZER;CN="Key Spot by Quality SAP":MAILTO:admin@qualitysap.com
END:VEVENT
BEGIN:VEVENT
DTSTART;TZID=America/New_York:20220226T210000
DTEND;TZID=America/New_York:20220227T000000
DTSTAMP:20260424T234829
CREATED:20220118T205303Z
LAST-MODIFIED:20220118T205330Z
UID:1093-1645909200-1645920000@keyspotapp.com
SUMMARY:The Harder They Fall Black History Celebration
DESCRIPTION:Be sure to get your ticket for “The Harder They Fall Black History Month Celebration”  featuring: \n\nBEST COSTUME \nBLACK HISTORY TRIVIA\nAPPETIZERS \nCASH BAR\nLINE DANCING\nand MORE!\n\nClick the link to get your general admission ticket or register to be a vendor today! \nhttps://www.eventbrite.com/e/the-harder-they-fall-black-history-month-celebration-tickets-250504133607 \nSponsored by Belli Jelli & Tre Unlimited in Partnership with Quality SAP.
URL:https://keyspotapp.com/event/the-harder-they-fall-black-history-celebration/
LOCATION:The Flock\, 6630 Hamilton Avenue\, Cincinnati\, Ohio\, 45224
CATEGORIES:Events,Vendor Opportunity
ATTACH;FMTTYPE=image/jpeg:https://keyspotapp.com/wp-content/uploads/2022/01/event-02262022-c.jpg
ORGANIZER;CN="Key Spot by Quality SAP":MAILTO:admin@qualitysap.com
END:VEVENT
BEGIN:VEVENT
DTSTART;TZID=America/New_York:20220224T180000
DTEND;TZID=America/New_York:20220224T190000
DTSTAMP:20260424T234829
CREATED:20220224T182856Z
LAST-MODIFIED:20220224T183051Z
UID:1119-1645725600-1645729200@keyspotapp.com
SUMMARY:Key Spot Networking and Overview Session
DESCRIPTION:Share Your Business & Connect!\nCome to the Virtual Key Spot Networking & Overview Session\, February 24\, 2022 at 6:00 PM EST.  Make great connections\, share your business\, and get great business tips! \nRegister soon because space is limited. \nhttps://www.eventbrite.com/e/key-spot-networking-overview-session-tickets-268177926397 \nBe sure to register to attend and share with a friend!
URL:https://keyspotapp.com/event/key-spot-networking-and-overview-session-4/
LOCATION:Georgia
CATEGORIES:Events
ATTACH;FMTTYPE=image/jpeg:https://keyspotapp.com/wp-content/uploads/2021/09/keyspotevent.jpg
ORGANIZER;CN="Key Spot by Quality SAP":MAILTO:admin@qualitysap.com
END:VEVENT
BEGIN:VEVENT
DTSTART;TZID=America/New_York:20220217T180000
DTEND;TZID=America/New_York:20220217T210000
DTSTAMP:20260424T234829
CREATED:20211229T150444Z
LAST-MODIFIED:20220118T210619Z
UID:1060-1645120800-1645131600@keyspotapp.com
SUMMARY:GGBCC Presents "The History of Black Businesses Event" 
DESCRIPTION:Be sure to register for “The History of Black Businesses Event”  Hosted by the Greater Georgia Black Chamber of Commerce.  This is hybrid event both virtual and on location\, that you won’t want to miss. P \nClick the link to get your tickets today! \nhttps://www.eventbrite.com/e/ggbcc-the-history-of-black-businesses-2022-tickets-233988916147 \nPlus\, go to the following link to register to be a vendor: \nhttps://www.eventbrite.com/e/ggbcc-the-history-of-black-businesses-2022-vendors-tickets-234010370317
URL:https://keyspotapp.com/event/ggbcc-presents-the-history-of-black-businesses-event/
LOCATION:Riverside Epicenter\, 135 Riverside Pkwy\, Austell\, Georgia\, 30168
CATEGORIES:Events,Vendor Opportunity
ATTACH;FMTTYPE=image/jpeg:https://keyspotapp.com/wp-content/uploads/2021/12/BHM-2022-b.jpg
END:VEVENT
BEGIN:VEVENT
DTSTART;TZID=America/New_York:20220120T180000
DTEND;TZID=America/New_York:20220120T190000
DTSTAMP:20260424T234829
CREATED:20220115T143631Z
LAST-MODIFIED:20220115T144706Z
UID:1082-1642701600-1642705200@keyspotapp.com
SUMMARY:Key Spot Networking and Overview Session
DESCRIPTION:Share Your Business & Connect!\nCome to the Virtual Key Spot Networking & Overview Session\, January 20\, 2022 at 6:00 PM EST.  Make great connections\, share your business\, and get great business tips! \nRegister soon because space is limited. \nBe sure to register to attend and share with a friend! \nClick the link to register today! \nhttps://www.eventbrite.com/e/key-spot-networking-overview-session-tickets-239401736037
URL:https://keyspotapp.com/event/key-spot-networking-and-overview-session-3/
LOCATION:Georgia
CATEGORIES:Events
ATTACH;FMTTYPE=image/jpeg:https://keyspotapp.com/wp-content/uploads/2021/09/keyspotevent.jpg
ORGANIZER;CN="Key Spot by Quality SAP":MAILTO:admin@qualitysap.com
END:VEVENT
BEGIN:VEVENT
DTSTART;TZID=America/New_York:20211216T180000
DTEND;TZID=America/New_York:20211216T180000
DTSTAMP:20260424T234829
CREATED:20211129T201309Z
LAST-MODIFIED:20211129T201404Z
UID:990-1639677600-1639677600@keyspotapp.com
SUMMARY:Key Spot Networking and Overview Session
DESCRIPTION:Share Your Business & Connect!\nCome to the Virtual Key Spot Networking & Overview Session\, December 16\, 2021 at 6:00 PM EST.  Make great connections\, share your business\, and get great business tips! \nRegister soon because space is limited. \nBe sure to register to attend and share with a friend!
URL:https://keyspotapp.com/event/key-spot-networking-and-overview-session-2/
LOCATION:Georgia
CATEGORIES:Events
ATTACH;FMTTYPE=image/jpeg:https://keyspotapp.com/wp-content/uploads/2021/09/keyspotevent.jpg
ORGANIZER;CN="Key Spot by Quality SAP":MAILTO:admin@qualitysap.com
END:VEVENT
BEGIN:VEVENT
DTSTART;TZID=America/New_York:20211213T170000
DTEND;TZID=America/New_York:20211213T200000
DTSTAMP:20260424T234829
CREATED:20211129T202011Z
LAST-MODIFIED:20211129T203238Z
UID:992-1639414800-1639425600@keyspotapp.com
SUMMARY:Nya Christmas Concert & Fundraiser
DESCRIPTION:Get your tickets for Nya’s live performance on Dec. 13th or purchase a ticket for the livestream recording of her Christmas Special featuring all of your favorite Christmas Songs and More! Click the link to get your tickets today!
URL:https://keyspotapp.com/event/nya-christmas-concert-fundraiser/
LOCATION:Galaxy Theatre\, 5740 Grandscape Boulevard\, The Colony\, TX\, 75056\, United States
CATEGORIES:Events
ATTACH;FMTTYPE=image/jpeg:https://keyspotapp.com/wp-content/uploads/2021/11/43521.jpeg
END:VEVENT
BEGIN:VEVENT
DTSTART;TZID=America/New_York:20211204T120000
DTEND;TZID=America/New_York:20211204T180000
DTSTAMP:20260424T234829
CREATED:20211129T203024Z
LAST-MODIFIED:20211129T203219Z
UID:996-1638619200-1638640800@keyspotapp.com
SUMMARY:Small Business Holiday Pop Up at Sugar Loft Events 2
DESCRIPTION:Come out and support local small businesses at the Holiday Pop Up located at Sugar Loft Events 2 in Liberty Township\, Ohio.  Click the link to get your tickets today!
URL:https://keyspotapp.com/event/996/
LOCATION:Georgia
CATEGORIES:Events
ATTACH;FMTTYPE=image/jpeg:https://keyspotapp.com/wp-content/uploads/2021/11/Pop-Up-Sign-Dec-4th-2-scaled.jpg
END:VEVENT
BEGIN:VEVENT
DTSTART;TZID=America/New_York:20211127T170000
DTEND;TZID=America/New_York:20211127T220000
DTSTAMP:20260424T234829
CREATED:20210819T214747Z
LAST-MODIFIED:20210830T175314Z
UID:820-1638032400-1638050400@keyspotapp.com
SUMMARY:Fisk and Wilberforce Meet & Greet and The Divine Nine Party
DESCRIPTION:Register to attend the event or become a Vendor!
URL:https://keyspotapp.com/event/fisk-and-wilberforce-meet-greet-and-the-divine-nine-party/
LOCATION:Georgia
CATEGORIES:Events,Vendor Opportunity
ATTACH;FMTTYPE=image/jpeg:https://keyspotapp.com/wp-content/uploads/2021/08/HBCU-Nov-27-Party-Final.jpg
END:VEVENT
BEGIN:VEVENT
DTSTART;TZID=America/New_York:20211023T133000
DTEND;TZID=America/New_York:20211023T153000
DTSTAMP:20260424T234829
CREATED:20211014T132542Z
LAST-MODIFIED:20211014T132542Z
UID:964-1634995800-1635003000@keyspotapp.com
SUMMARY:Belli Jelli Launch Party & Business Networking Event
DESCRIPTION:Be sure to register for this fun can’t miss launch party and networking event\, sponsored by Belli Jelli and Key Spot by Quality SAP! \nHave fun building connections\, share your business\, Support the launch of Belli Jelli\, & learn about FREE Promotion on the Key Spot app! \nThe event will include\, participation in the driving range at Top Golf\, Appetizers\, Networking\, and more\, so don’t be late!
URL:https://keyspotapp.com/event/belli-jelli-launch-party-business-networking-event/
LOCATION:Top Golf\, 9568 Water Front Dr\, West Chester\, OH\, 45069\, United States
CATEGORIES:Events,Swag Bag Opportunity
ATTACH;FMTTYPE=image/png:https://keyspotapp.com/wp-content/uploads/2021/10/launchevent2.png
ORGANIZER;CN="Key Spot by Quality SAP":MAILTO:admin@qualitysap.com
END:VEVENT
BEGIN:VEVENT
DTSTART;TZID=America/New_York:20211016T120000
DTEND;TZID=America/New_York:20211016T160000
DTSTAMP:20260424T234829
CREATED:20210830T180429Z
LAST-MODIFIED:20210830T180429Z
UID:836-1634385600-1634400000@keyspotapp.com
SUMMARY:Sugar Loft Event Planning Expo\, in Partnership with Key Spot
DESCRIPTION:Register to attend the event\,  become a Vendor\, or Share in the Swag Bag!
URL:https://keyspotapp.com/event/sugar-loft-event-planning-expo-in-partnership-with-key-spot/
LOCATION:Georgia
CATEGORIES:Events,Swag Bag Opportunity,Vendor Opportunity
ATTACH;FMTTYPE=image/jpeg:https://keyspotapp.com/wp-content/uploads/2021/08/sugar-loft-oct-16-scaled.jpg
END:VEVENT
BEGIN:VEVENT
DTSTART;TZID=America/New_York:20210916T180000
DTEND;TZID=America/New_York:20210916T190000
DTSTAMP:20260424T234829
CREATED:20210903T190918Z
LAST-MODIFIED:20210903T190918Z
UID:840-1631815200-1631818800@keyspotapp.com
SUMMARY:Key Spot Networking and Overview Session
DESCRIPTION:Share Your Business & Connect!\nCome to the Virtual Key Spot Networking & Overview Session\, September 16\, 2021 at 6:00 PM EST.  Make great connections\, share your business\, and get great business tips! \nRegister soon because space is limited. \nBe sure to register to attend and share with a friend!
URL:https://keyspotapp.com/event/key-spot-networking-and-overview-session/
LOCATION:Georgia
CATEGORIES:Events
ATTACH;FMTTYPE=image/jpeg:https://keyspotapp.com/wp-content/uploads/2021/09/keyspotevent.jpg
ORGANIZER;CN="Key Spot by Quality SAP":MAILTO:admin@qualitysap.com
END:VEVENT
BEGIN:VEVENT
DTSTART;TZID=America/New_York:20210911T090000
DTEND;TZID=America/New_York:20210911T130000
DTSTAMP:20260424T234829
CREATED:20210819T214119Z
LAST-MODIFIED:20210830T175522Z
UID:814-1631350800-1631365200@keyspotapp.com
SUMMARY:Breaking the Chains - Financial Empowerment Conference 2021:  Sponsored by Family Concepts
DESCRIPTION:FREE event to attend and FREE Vendor Opportunity!\nCincinnati\, OH\nRegister to attend the event at:  https://www.eventbrite.com/e/breaking-the-chains-financial-empowerment-conference-2021-tickets-166060879561 \nFor questions about being a vendor email:  familyconcepts1@gmail.com
URL:https://keyspotapp.com/event/breaking-the-chains-financial-empowerment-conference-2021-sponsored-by-family-concepts/
LOCATION:Georgia
CATEGORIES:Events,Vendor Opportunity
ATTACH;FMTTYPE=image/jpeg:https://keyspotapp.com/wp-content/uploads/2021/08/break.jpg
END:VEVENT
END:VCALENDAR