BEGIN:VCALENDAR
VERSION:2.0
PRODID:-// - ECPv6.15.20//NONSGML v1.0//EN
CALSCALE:GREGORIAN
METHOD:PUBLISH
X-ORIGINAL-URL:https://keyspotapp.com
X-WR-CALDESC:Events for 
REFRESH-INTERVAL;VALUE=DURATION:PT1H
X-Robots-Tag:noindex
X-PUBLISHED-TTL:PT1H
BEGIN:VTIMEZONE
TZID:America/New_York
BEGIN:DAYLIGHT
TZOFFSETFROM:-0500
TZOFFSETTO:-0400
TZNAME:EDT
DTSTART:20250309T070000
END:DAYLIGHT
BEGIN:STANDARD
TZOFFSETFROM:-0400
TZOFFSETTO:-0500
TZNAME:EST
DTSTART:20251102T060000
END:STANDARD
BEGIN:DAYLIGHT
TZOFFSETFROM:-0500
TZOFFSETTO:-0400
TZNAME:EDT
DTSTART:20260308T070000
END:DAYLIGHT
BEGIN:STANDARD
TZOFFSETFROM:-0400
TZOFFSETTO:-0500
TZNAME:EST
DTSTART:20261101T060000
END:STANDARD
BEGIN:DAYLIGHT
TZOFFSETFROM:-0500
TZOFFSETTO:-0400
TZNAME:EDT
DTSTART:20270314T070000
END:DAYLIGHT
BEGIN:STANDARD
TZOFFSETFROM:-0400
TZOFFSETTO:-0500
TZNAME:EST
DTSTART:20271107T060000
END:STANDARD
END:VTIMEZONE
BEGIN:VEVENT
DTSTART;TZID=America/New_York:20260119T190000
DTEND;TZID=America/New_York:20260119T200000
DTSTAMP:20260424T194027
CREATED:20260103T171550Z
LAST-MODIFIED:20260103T172211Z
UID:2423-1768849200-1768852800@keyspotapp.com
SUMMARY:AL FREE Virtual Key Spot Networking Session
DESCRIPTION:Alabama Small Business FREE Virtual Networking\nCome to the FREE Virtual Key Spot Networking & Overview Session for Alabama Business Owners and Supporters\, January 19\, 2026 at 7:00 PM EST.  Make great connections\, share your business\, and get great business tips! \nDon’t wait\, Click the link to REGISTER Today! \nhttps://www.eventbrite.com/e/al-key-spot-business-networking-overview-session-tickets-1979517391806? \nBe sure to register to attend and share with a friend!
URL:https://keyspotapp.com/event/al-free-virtual-key-spot-networking-session/
LOCATION:GA
CATEGORIES:Events
ATTACH;FMTTYPE=image/jpeg:https://keyspotapp.com/wp-content/uploads/2026/01/al-key-spot-image-2-scaled.jpg
ORGANIZER;CN="Key Spot by Quality SAP":MAILTO:admin@qualitysap.com
END:VEVENT
BEGIN:VEVENT
DTSTART;TZID=America/New_York:20260122T180000
DTEND;TZID=America/New_York:20260122T190000
DTSTAMP:20260424T194027
CREATED:20260103T171107Z
LAST-MODIFIED:20260103T171107Z
UID:2421-1769104800-1769108400@keyspotapp.com
SUMMARY:FREE Virtual Key Spot Networking Session
DESCRIPTION:FREE Virtual Networking\nCome to the FREE Virtual Key Spot Networking & Overview Session\, January 22\, 2026 at 6:00 PM EST.  Make great connections\, share your business\, and get great business tips! \nDon’t wait\, Click the link to REGISTER Today! \nhttps://www.eventbrite.com/e/key-spot-business-networking-overview-session-tickets-1979302578293? \nBe sure to register to attend and share with a friend!
URL:https://keyspotapp.com/event/free-virtual-key-spot-networking-session-9/
LOCATION:GA
CATEGORIES:Events
ATTACH;FMTTYPE=image/jpeg:https://keyspotapp.com/wp-content/uploads/2023/06/freevirtnet-scaled.jpg
ORGANIZER;CN="Key Spot by Quality SAP":MAILTO:admin@qualitysap.com
END:VEVENT
BEGIN:VEVENT
DTSTART;TZID=America/New_York:20260203T200000
DTEND;TZID=America/New_York:20260203T210000
DTSTAMP:20260424T194027
CREATED:20260103T172103Z
LAST-MODIFIED:20260116T192349Z
UID:2426-1770148800-1770152400@keyspotapp.com
SUMMARY:AZ FREE Virtual Key Spot Networking Session
DESCRIPTION:Arizona Small Business FREE Virtual Networking\nCome to the FREE Virtual Key Spot Networking & Overview Session for Arizona Business Owners and Supporters\, Feb. 3\, 2026 at 8:00 PM EST.  Make great connections\, share your business\, and get great business tips! \nDon’t wait\, Click the link to REGISTER Today! \nhttps://www.eventbrite.com/e/az-key-spot-business-networking-overview-session-tickets-1979522254350 \nBe sure to register to attend and share with a friend!
URL:https://keyspotapp.com/event/az-free-virtual-key-spot-networking-session/
LOCATION:GA
CATEGORIES:Events
ATTACH;FMTTYPE=image/jpeg:https://keyspotapp.com/wp-content/uploads/2026/01/az-key-spot-image-scaled.jpg
ORGANIZER;CN="Key Spot by Quality SAP":MAILTO:admin@qualitysap.com
END:VEVENT
BEGIN:VEVENT
DTSTART;TZID=America/New_York:20260219T180000
DTEND;TZID=America/New_York:20260219T190000
DTSTAMP:20260424T194027
CREATED:20260103T172614Z
LAST-MODIFIED:20260203T003816Z
UID:2431-1771524000-1771527600@keyspotapp.com
SUMMARY:FREE Virtual Key Spot Networking Session
DESCRIPTION:Small Business FREE Virtual Networking\nCome to the FREE Virtual Key Spot Networking & Overview Session\, Feb. 19\, 2026 at 6:00 PM EST.  Make great connections\, share your business\, and get great business tips! \nDon’t wait\, Click the link to REGISTER Today! \nhttps://www.eventbrite.com/e/key-spot-business-networking-overview-session-tickets-1982244291035? \nBe sure to register to attend and share with a friend!
URL:https://keyspotapp.com/event/ar-free-virtual-key-spot-networking-session/
LOCATION:GA
CATEGORIES:Events
ATTACH;FMTTYPE=image/jpeg:https://keyspotapp.com/wp-content/uploads/2026/01/key-spot-networking-banner-scaled.jpg
ORGANIZER;CN="Key Spot by Quality SAP":MAILTO:admin@qualitysap.com
END:VEVENT
BEGIN:VEVENT
DTSTART;TZID=America/New_York:20260222T180000
DTEND;TZID=America/New_York:20260223T220000
DTSTAMP:20260424T194027
CREATED:20260103T170035Z
LAST-MODIFIED:20260103T170035Z
UID:2418-1771783200-1771884000@keyspotapp.com
SUMMARY:Atlanta Black Expo
DESCRIPTION:Be sure to register for the Atlanta Black Expo. This will be a 3 day event you won’t want to miss!  Network\, Make Great Connections\, and support Small Business Owners. \nClick the link to get your tickets today! Use coupon code “SAP” at checkout for a $5 OFF discount. \nAtlanta Black Expo
URL:https://keyspotapp.com/event/atlanta-black-expo-4/
LOCATION:Georgia World Congress Center Atlanta\, Georgia\, 285 Andrew Young International Blvd NW\, Atlanta\, GA\, GA\, 30313\, United States
CATEGORIES:Events
ATTACH;FMTTYPE=image/png:https://keyspotapp.com/wp-content/uploads/2026/01/2026-ABE-Main-Flyer.png
END:VEVENT
BEGIN:VEVENT
DTSTART;TZID=America/New_York:20260314T130000
DTEND;TZID=America/New_York:20260314T160000
DTSTAMP:20260424T194027
CREATED:20260306T160756Z
LAST-MODIFIED:20260306T160756Z
UID:2469-1773493200-1773504000@keyspotapp.com
SUMMARY:Boss Ladies Luncheon in Cincinnati\, OH
DESCRIPTION:ATTENTION Boss Lady BUSINESS OWNERS in Cincinnati!  \nThis is Your Chance to Network\, Connect and Get the Support You Need to Grow! We want to Celebrate You as a Boss Lady in Business. Be sure to register for the Boss Ladies Luncheon on August 8th starting at 12 PM EST at the The Key Spot Event Center in Cincinnati. \nShare Your Business\, Network\, get Great information\, make Meaningful Connections!  Don’t wait\, register today! \nhttps://www.eventbrite.com/e/connecting-is-key-small-business-conference-cincinnati-tickets-1676641121729? \nSponsored by Key Spot by Quality SAP.
URL:https://keyspotapp.com/event/bossladiesluncheon/
LOCATION:Key Spot Event Center – Cincinnati\, OH\, 10088 Springfield Pike Suite 1\, Cincinnati\, OH\, 45215\, United States
CATEGORIES:Cincy Key Spot Event Center,Events,Swag Bag Opportunity,Vendor Opportunity
ATTACH;FMTTYPE=image/png:https://keyspotapp.com/wp-content/uploads/2026/03/bossladies-luncheon.png
ORGANIZER;CN="Key Spot by Quality SAP":MAILTO:admin@qualitysap.com
END:VEVENT
BEGIN:VEVENT
DTSTART;TZID=America/New_York:20260326T180000
DTEND;TZID=America/New_York:20260326T190000
DTSTAMP:20260424T194027
CREATED:20260306T152512Z
LAST-MODIFIED:20260306T152512Z
UID:2466-1774548000-1774551600@keyspotapp.com
SUMMARY:FREE Virtual Key Spot Networking Session
DESCRIPTION:Small Business FREE Virtual Networking\nCome to the FREE Virtual Key Spot Networking & Overview Session\, March 26\, 2026 at 6:00 PM EST.  Make great connections\, share your business\, and get great business tips! \nDon’t wait\, Click the link to REGISTER Today! \nhttps://www.eventbrite.com/e/key-spot-business-networking-overview-session-tickets-1984186213377? \nBe sure to register to attend and share with a friend!
URL:https://keyspotapp.com/event/free-virtual-key-spot-networking-session-10/
LOCATION:GA
CATEGORIES:Events
ATTACH;FMTTYPE=image/jpeg:https://keyspotapp.com/wp-content/uploads/2026/01/key-spot-networking-banner-scaled.jpg
ORGANIZER;CN="Key Spot by Quality SAP":MAILTO:admin@qualitysap.com
END:VEVENT
BEGIN:VEVENT
DTSTART;TZID=America/New_York:20260424T090000
DTEND;TZID=America/New_York:20260424T210000
DTSTAMP:20260424T194027
CREATED:20260331T112614Z
LAST-MODIFIED:20260423T141453Z
UID:2478-1777021200-1777064400@keyspotapp.com
SUMMARY:Power Tech Summit
DESCRIPTION:Get Your tickets to The PowerTech™ Summit! The summit is your gateway to access a growing your business in the area of Technology. The network with influential pioneers in the area of technology and business. Connect with market influencers and leading providers of high quality products and services.  You won’t want to miss this opportunity to GROW YOUR BUSINESS! \nBe sure to register today and use Discount code “25off-keyspot”  at check out! \nClick the link to get your tickets today! \nPower Tech Summit Registration Link
URL:https://keyspotapp.com/event/power-tech-summit/
LOCATION:Embassy Suites by Hilton Alpharetta Halcyon\, 6430 Market Street\, Alpharetta\, GA\, 30005\, United States
CATEGORIES:Events,Vendor Opportunity
ATTACH;FMTTYPE=image/png:https://keyspotapp.com/wp-content/uploads/2026/03/powertechsummit2026.png
END:VEVENT
BEGIN:VEVENT
DTSTART;TZID=America/New_York:20260425T170000
DTEND;TZID=America/New_York:20260425T220000
DTSTAMP:20260424T194027
CREATED:20260423T140807Z
LAST-MODIFIED:20260423T141633Z
UID:2486-1777136400-1777154400@keyspotapp.com
SUMMARY:Taste Urban Atlanta Event
DESCRIPTION:Be sure to register for the Taste Urban Atlanta Event.  Enjoy delicious food\, and support Small Business Owners. \nClick the link to get your tickets today! Use coupon code “SAP” at checkout for a discount. \nTaste Urban Atlanta Tickets
URL:https://keyspotapp.com/event/taste-urban-atlanta-event-5/
LOCATION:Uptown Atlanta\, 500 Lindbergh Drive NE\, Atlanta\, GA\, 30324\, United States
CATEGORIES:Events
ATTACH;FMTTYPE=image/png:https://keyspotapp.com/wp-content/uploads/2022/10/SAP-TUA-Oct-2022-Vendor-Square-FLYER-1-e1752334525378.png
END:VEVENT
BEGIN:VEVENT
DTSTART;TZID=America/New_York:20260808T120000
DTEND;TZID=America/New_York:20260808T150000
DTSTAMP:20260424T194027
CREATED:20260306T152159Z
LAST-MODIFIED:20260306T152604Z
UID:2464-1786190400-1786201200@keyspotapp.com
SUMMARY:Connecting is Key Small Business Conference Cincinnati\, OH
DESCRIPTION:ATTENTION SMALL BUSINESS OWNERS!  \nThis is Your Chance to Get the Support You Need!  Register for the Connecting is Key Small Business Conference on August 8th starting at 12 PM EST at the The Key Spot Event Center in Cincinnati. \nShare Your Business\, Network\, get Great information\, make Meaningful Connections!  Don’t wait\, register today! \nhttps://www.eventbrite.com/e/connecting-is-key-small-business-conference-cincinnati-tickets-1676641121729? \nSponsored by Key Spot by Quality SAP.
URL:https://keyspotapp.com/event/connecting-is-key-small-business-conference-cincinnati-oh-2/
LOCATION:Key Spot Event Center – Cincinnati\, OH\, 10088 Springfield Pike Suite 1\, Cincinnati\, OH\, 45215\, United States
CATEGORIES:Cincy Key Spot Event Center,Events,Swag Bag Opportunity,Vendor Opportunity
ATTACH;FMTTYPE=image/png:https://keyspotapp.com/wp-content/uploads/2025/07/connectingiskey-cincy-2025-scaled.png
ORGANIZER;CN="Key Spot by Quality SAP":MAILTO:admin@qualitysap.com
END:VEVENT
END:VCALENDAR