BEGIN:VCALENDAR
VERSION:2.0
PRODID:-// - ECPv6.15.20//NONSGML v1.0//EN
CALSCALE:GREGORIAN
METHOD:PUBLISH
X-ORIGINAL-URL:https://keyspotapp.com
X-WR-CALDESC:Events for 
REFRESH-INTERVAL;VALUE=DURATION:PT1H
X-Robots-Tag:noindex
X-PUBLISHED-TTL:PT1H
BEGIN:VTIMEZONE
TZID:America/New_York
BEGIN:DAYLIGHT
TZOFFSETFROM:-0500
TZOFFSETTO:-0400
TZNAME:EDT
DTSTART:20240310T070000
END:DAYLIGHT
BEGIN:STANDARD
TZOFFSETFROM:-0400
TZOFFSETTO:-0500
TZNAME:EST
DTSTART:20241103T060000
END:STANDARD
BEGIN:DAYLIGHT
TZOFFSETFROM:-0500
TZOFFSETTO:-0400
TZNAME:EDT
DTSTART:20250309T070000
END:DAYLIGHT
BEGIN:STANDARD
TZOFFSETFROM:-0400
TZOFFSETTO:-0500
TZNAME:EST
DTSTART:20251102T060000
END:STANDARD
BEGIN:DAYLIGHT
TZOFFSETFROM:-0500
TZOFFSETTO:-0400
TZNAME:EDT
DTSTART:20260308T070000
END:DAYLIGHT
BEGIN:STANDARD
TZOFFSETFROM:-0400
TZOFFSETTO:-0500
TZNAME:EST
DTSTART:20261101T060000
END:STANDARD
END:VTIMEZONE
BEGIN:VEVENT
DTSTART;TZID=America/New_York:20251119T180000
DTEND;TZID=America/New_York:20251119T200000
DTSTAMP:20260424T193721
CREATED:20251020T214801Z
LAST-MODIFIED:20251020T214801Z
UID:2410-1763575200-1763582400@keyspotapp.com
SUMMARY:Realtor and Investor Monthly Meet-Up
DESCRIPTION:Attention: Realtors and Property Investors!\nGet the support you need to grow your Real Estate and Investor Business! \nJoin the Monthly Real Estate and Investor Meetup at Key Spot Event Center. Each session will feature: \n\nNetworking with other local Realtors and Investors\nWorkshop topics and speakers\nOpportunities to collaborate and participate in events\nBusiness Promotion on Key Spot and more!\n\nhttps://www.eventbrite.com/e/realtor-and-investor-monthly-meet-up-tickets-1790179909299? \nSponsored by Key Spot by Quality SAP.
URL:https://keyspotapp.com/event/realtor-monthly-meet-up/
LOCATION:Key Spot Event Center – Cincinnati\, OH\, 10088 Springfield Pike Suite 1\, Cincinnati\, OH\, 45215\, United States
CATEGORIES:Cincy Key Spot Event Center,Events
ATTACH;FMTTYPE=image/jpeg:https://keyspotapp.com/wp-content/uploads/2025/10/Realtor-and-investor-meetup-scaled.jpg
ORGANIZER;CN="Key Spot by Quality SAP":MAILTO:admin@qualitysap.com
END:VEVENT
END:VCALENDAR